BEGIN:VCALENDAR
VERSION:2.0
PRODID:-//eventon.com NONSGML v1.0//EN
BEGIN:VEVENT
UID:69ea19ef95163
DTSTAMP:20260423T160903
DTSTART:20260429T120000Z
DTEND:20260429T130000Z
LOCATION:ACOJC Limassol\,  Cyprus
SUMMARY:Bible Study
DESCRIPTION: Greek and English in-Depth Bible Studies. Wednesdays (Online Only) 3:00-4:00pm Bible study course will be broadcasted on Facebook LIVE (without translation). &nbsp;
END:VEVENT
END:VCALENDAR